BEGIN:VCALENDAR
METHOD:PUBLISH
VERSION:2.0
X-WR-CALNAME:NOPA
PRODID:-//NOPA//NONSGML v1.0//EN
X-APPLE-CALENDAR-COLOR:#E55334
X-WR-TIMEZONE:Europe/Oslo
X-ORIGINAL-URL:https://nopa.no
X-WR-CALDESC:
CALSCALE:GREGORIAN
BEGIN:VEVENT
UID:ics719-0@nopa.no
DTSTAMP:20260424T205719Z

TRANSP:TRANSPARENT
ORGANIZER;CN=NOPA:MAILTO:post@nopa.no
DTSTART:20250315
DTEND:20250315
SUMMARY:Såkornmidler fra NOPA
LOCATION:
GEO:
DESCRIPTION:
URL;VALUE=URI:https://nopa.no/kalender/tilskudd-fra-nopa/
END:VEVENT
BEGIN:VEVENT
UID:ics719-1@nopa.no
DTSTAMP:20260424T205719Z

TRANSP:TRANSPARENT
ORGANIZER;CN=NOPA:MAILTO:post@nopa.no
DTSTART:20251015
DTEND:20251015
SUMMARY:Såkornmidler fra NOPA
LOCATION:
GEO:
DESCRIPTION:
URL;VALUE=URI:https://nopa.no/kalender/tilskudd-fra-nopa/
END:VEVENT
BEGIN:VEVENT
UID:ics719-2@nopa.no
DTSTAMP:20260424T205719Z

TRANSP:TRANSPARENT
ORGANIZER;CN=NOPA:MAILTO:post@nopa.no
DTSTART:20260315
DTEND:20260315
SUMMARY:Såkornmidler fra NOPA
LOCATION:
GEO:
DESCRIPTION:
URL;VALUE=URI:https://nopa.no/kalender/tilskudd-fra-nopa/
END:VEVENT
BEGIN:VEVENT
UID:ics719-3@nopa.no
DTSTAMP:20260424T205719Z

TRANSP:TRANSPARENT
ORGANIZER;CN=NOPA:MAILTO:post@nopa.no
DTSTART:20261015
DTEND:20261015
SUMMARY:Såkornmidler fra NOPA
LOCATION:
GEO:
DESCRIPTION:
URL;VALUE=URI:https://nopa.no/kalender/tilskudd-fra-nopa/
END:VEVENT
END:VCALENDAR