BEGIN:VCALENDAR
METHOD:PUBLISH
VERSION:2.0
X-WR-CALNAME:NOPA
PRODID:-//NOPA//NONSGML v1.0//EN
X-APPLE-CALENDAR-COLOR:#E55334
X-WR-TIMEZONE:Europe/Oslo
X-ORIGINAL-URL:https://nopa.no
X-WR-CALDESC:
CALSCALE:GREGORIAN
BEGIN:VEVENT
UID:ics1351-0@nopa.no
DTSTAMP:20260424T184246Z

TRANSP:TRANSPARENT
ORGANIZER;CN=NOPA:MAILTO:post@nopa.no
DTSTART:20150520
DTEND:20150520
SUMMARY:Påmeldingsfrist NOPAs sommerfest 2015
LOCATION:
GEO:
DESCRIPTION:
URL;VALUE=URI:https://nopa.no/kalender/pameldingsfrist-nopas-sommerfest-2015/
END:VEVENT
END:VCALENDAR