BEGIN:VCALENDAR
METHOD:PUBLISH
VERSION:2.0
X-WR-CALNAME:NOPA
PRODID:-//NOPA//NONSGML v1.0//EN
X-APPLE-CALENDAR-COLOR:#E55334
X-WR-TIMEZONE:Europe/Oslo
X-ORIGINAL-URL:https://nopa.no
X-WR-CALDESC:
CALSCALE:GREGORIAN
BEGIN:VEVENT
UID:ics23231-0@nopa.no
DTSTAMP:20260420T024939Z

TRANSP:TRANSPARENT
ORGANIZER;CN=NOPA:MAILTO:post@nopa.no
DTSTART:20260528T120000
DTEND:20260528T235500
SUMMARY:NOPAs generalforsamling og sommerfest
LOCATION:
GEO:;
DESCRIPTION:
URL;VALUE=URI:https://nopa.no/kalender/nopas-generalforsamling-og-sommerfest/
END:VEVENT
END:VCALENDAR