BEGIN:VCALENDAR
METHOD:PUBLISH
VERSION:2.0
X-WR-CALNAME:NOPA
PRODID:-//NOPA//NONSGML v1.0//EN
X-APPLE-CALENDAR-COLOR:#E55334
X-WR-TIMEZONE:Europe/Oslo
X-ORIGINAL-URL:https://nopa.no
X-WR-CALDESC:
CALSCALE:GREGORIAN
BEGIN:VEVENT
UID:ics11490-0@nopa.no
DTSTAMP:20260421T115041Z

TRANSP:TRANSPARENT
ORGANIZER;CN=NOPA:MAILTO:post@nopa.no
DTSTART:20260220
DTEND:20260220
SUMMARY:Fond for lyd og bilde – Musikk
LOCATION:
GEO:
DESCRIPTION:
URL;VALUE=URI:https://nopa.no/kalender/fond-for-lyd-og-bilde-markedsforing/
END:VEVENT
BEGIN:VEVENT
UID:ics11490-1@nopa.no
DTSTAMP:20260421T115041Z

TRANSP:TRANSPARENT
ORGANIZER;CN=NOPA:MAILTO:post@nopa.no
DTSTART:20260902
DTEND:20260902
SUMMARY:Fond for lyd og bilde – Musikk
LOCATION:
GEO:
DESCRIPTION:
URL;VALUE=URI:https://nopa.no/kalender/fond-for-lyd-og-bilde-markedsforing/
END:VEVENT
END:VCALENDAR