BEGIN:VCALENDAR
METHOD:PUBLISH
VERSION:2.0
X-WR-CALNAME:NOPA
PRODID:-//NOPA//NONSGML v1.0//EN
X-APPLE-CALENDAR-COLOR:#E55334
X-WR-TIMEZONE:Europe/Oslo
X-ORIGINAL-URL:https://nopa.no
X-WR-CALDESC:
CALSCALE:GREGORIAN
BEGIN:VEVENT
UID:ics1160-0@nopa.no
DTSTAMP:20260424T183519Z

TRANSP:TRANSPARENT
ORGANIZER;CN=NOPA:MAILTO:post@nopa.no
DTSTART:20150324
DTEND:20150324
SUMMARY:Drømmeløftet kultur – Innovasjon Norge kjører debatt 24. mars!
LOCATION:
GEO:
DESCRIPTION:
URL;VALUE=URI:https://nopa.no/kalender/drommeloftet-kultur-innovasjon-norge-kjorer-debatt-24-mars/
END:VEVENT
END:VCALENDAR